BEGIN:VCALENDAR
VERSION:2.0
CALSCALE:GREGORIAN
PRODID:-//MyApp//Calendar 1.0//EN
BEGIN:VEVENT
METHOD:PUBLISH
UID:36054@regionalniportaly.cz
DTSTAMP:20260422T012355Z
DTSTART;VALUE=DATE:20231019
DTEND;VALUE=DATE:20231020
SUMMARY:Jak Uhlíř skoumal Svěrák....
DESCRIPTION:Divoké\, veselé\, melodické\, tajemné\, poučné\, i mezigalaktické\, takové je první autorské dílo Divadla Věž\, jehož podstatnou část tvoří písničky od skladatelů Jaroslava Uhlíře\, Petra Skoumala a textaře Zdeňka Svěráka. Celý příběh se odehrává v kouzelném televizním studiu\, ve kterém se "na obrazovce" vystřídá několik barvitých postav\, z nichž každá má svůj vlastní pořad. Uvidíte například roztancovaného žabáka Freda\, broučka Potemníčka\, detektivní housenku Lenku\, Čili Parpičáka\, Pepíka Superbouchače a dokonce do studia přiletí i dva zamilovaní mimozemšťánci.Námět a Scénář:&nbsp\;Vlastík Strublík.&nbsp\;Scéna a kostýmy:&nbsp\;Eva Peřinová\, Kamila Kubíčková.Hudba:&nbsp\;Petr Skoumal\, Honza Zrzavý.&nbsp\;Zvuk:&nbsp\;AťiBuBu.V hlavní roli:&nbsp\;Vlastík Strublík.&nbsp\;Vedlejší role:&nbsp\;Anna Přikrylová\, Jakub Dohnal\, Jakub Kurka.Namluvené role:&nbsp\;Kateřina Sikorová\, AťiBuBu.&nbsp\;Režie:&nbsp\;Vlastík Strublík.&nbsp\;
LOCATION:Zbýšov
END:VEVENT
END:VCALENDAR