BEGIN:VCALENDAR
VERSION:2.0
CALSCALE:GREGORIAN
PRODID:-//MyApp//Calendar 1.0//EN
BEGIN:VEVENT
METHOD:PUBLISH
UID:35931@regionalniportaly.cz
DTSTAMP:20260422T010035Z
DTSTART;VALUE=DATE:20231013
DTEND;VALUE=DATE:20231014
SUMMARY:Bod obnovy
DESCRIPTION:sci-Fi / Krimi / Drama / ThrillerČesko / Slovensko / Polsko / Srbsko\,&nbsp\;2023\,&nbsp\;116 minRežie:&nbsp\;Robert HlozScénář:&nbsp\;Tomislav Čečka\,&nbsp\;Robert Hloz\,&nbsp\;Zdeněk JecelínKamera:&nbsp\;Filip MarekHudba:&nbsp\;Jan ŠléškaHrají:&nbsp\;Andrea Mohylová\,&nbsp\;Matěj Hádek\,&nbsp\;Milan Ondrík\,&nbsp\;Václav Neužil ml.\,&nbsp\;Karel Dobrý\,&nbsp\;Agáta Kryštůfková\,&nbsp\;Katarzyna Zawadzka\,&nbsp\;Iveta Dušková\,&nbsp\;Jan Vlasák\,&nbsp\;Richard Stanke&nbsp\;(více)(další profese)Představte si\, že žijete v roce 2041\, kdy máte právo být po nehodě či jiné nepřirozené smrti oživeni. Stačí si jen pravidelně vytvářet digitální zálohu své osobnosti – BOD OBNOVY. Agentka Em právě dostává do rukou případ\, kdy byla základní pravidla obnovy porušena. Bod obnovy oběti byl smazán a Em tak má před sebou výjimečný zločin. Strhující příběh zasazený do blízké budoucnosti\, kdy technologie budou zaručovat lepší život a lidé si budou moci zaplatit jeho prodloužení.&nbsp\;(Bioscop)&nbsp\;
LOCATION:Zbýšov
END:VEVENT
END:VCALENDAR