BEGIN:VCALENDAR
VERSION:2.0
CALSCALE:GREGORIAN
PRODID:-//MyApp//Calendar 1.0//EN
BEGIN:VEVENT
METHOD:PUBLISH
UID:35769@regionalniportaly.cz
DTSTAMP:20260422T185841Z
DTSTART;VALUE=DATE:20240301
DTEND;VALUE=DATE:20240302
SUMMARY:Fleret a Zuzana Šuláková
DESCRIPTION:Tradice pokračuje. Kapela Fleret koncertuje také s dcerou Valašské královny Jarmily Šulákové – Zuzanou. Program je pečlivě namíchaný\, v playlistu jsou samozřejmě po boku dobře známých hitů Fleretu i nezapomenutelné písně jako Ovečky zaběhnuté\, Na Vsetíně\, tam je lúka nebo Já su od Lidečka.
LOCATION:Zbýšov
END:VEVENT
END:VCALENDAR