BEGIN:VCALENDAR
VERSION:2.0
CALSCALE:GREGORIAN
PRODID:-//MyApp//Calendar 1.0//EN
BEGIN:VEVENT
METHOD:PUBLISH
UID:35356@regionalniportaly.cz
DTSTAMP:20260421T232637Z
DTSTART;VALUE=DATE:20231014
DTEND;VALUE=DATE:20231015
SUMMARY:BURČÁK FEST 2023 v Moravském Krumlově
DESCRIPTION:BURČÁK FEST 2023KDEVrabčí Hájek\, Moravský KrumlovPROČSkvělý burčák od vinařů z Moravských Bránic\, který okouzlí vaše chuťové buňkyExkluzivní víno z vinařství Plačkovi z Moravských BránicRocková hudba\, vám rozproudí krev v žilách a přivede na parket.Grilování jako žádné jiné! Užijte si lahodné ryby\, zabíjačku a ohromné burgery.Přijďte na veselé odpoledne plné radosti s naším skákacím hradem pro dětiHUDEBNÍ PROGRAM13:30 EUPHORIA16:00 AGO ROCK19:30 GATE CRASHER (https://gatecrasher.cz/)21:00 PRAGUE QUEEN (https://praguequeen.cz/)
LOCATION:Moravský Krumlov
END:VEVENT
END:VCALENDAR