BEGIN:VCALENDAR
VERSION:2.0
CALSCALE:GREGORIAN
PRODID:-//MyApp//Calendar 1.0//EN
BEGIN:VEVENT
METHOD:PUBLISH
UID:34482@regionalniportaly.cz
DTSTAMP:20260423T075056Z
DTSTART;VALUE=DATE:20230818
DTEND;VALUE=DATE:20230819
SUMMARY:Želvy Ninja: Mutantí chaos
DESCRIPTION:Zmutovaní želví kluci se vracejí na filmové plátno. A ve velkém stylu. Animovanou akční komedii zdobí originální vizuální styl a vtipné hlášky komika Setha Rogena\, který k filmu Želvy Ninja: Mutantí chaos napsal scénář. Animovaná akční komedie.dabováno&nbsp\;\,&nbsp\; 94 minut
LOCATION:Zbýšov
END:VEVENT
END:VCALENDAR