BEGIN:VCALENDAR
VERSION:2.0
CALSCALE:GREGORIAN
PRODID:-//MyApp//Calendar 1.0//EN
BEGIN:VEVENT
METHOD:PUBLISH
UID:34481@regionalniportaly.cz
DTSTAMP:20260423T075147Z
DTSTART;VALUE=DATE:20230817
DTEND;VALUE=DATE:20230818
SUMMARY:ONEMANSHOW: The Movie
DESCRIPTION:ONEMANSHOW: The Movie -&nbsp\;Česko\,&nbsp\;2023Režie:Kazma Kazmitch\,&nbsp\;Andy FehuScénář:&nbsp\;Kazma KazmitchKamera:&nbsp\;Jakub ŠevčíkHudba:&nbsp\;Lukáš ChromekHrají:&nbsp\;Kazma KazmitchPřísně utajovaný projekt\, na kterém Kazma&nbsp\;a jeho tým pracovali přes 4 roky\, vstupuje historicky poprvé jako&nbsp\;ONEMANSHOW&nbsp\;v celovečerním formátu do kin. Unikátní film mění dosud zaběhnutá pravidla kinematografie a jako jediný na světě bere diváky za hranice filmového plátna do opravdové reality.
LOCATION:Zbýšov
END:VEVENT
END:VCALENDAR