BEGIN:VCALENDAR
VERSION:2.0
CALSCALE:GREGORIAN
PRODID:-//MyApp//Calendar 1.0//EN
BEGIN:VEVENT
METHOD:PUBLISH
UID:34309@regionalniportaly.cz
DTSTAMP:20260422T013150Z
DTSTART;VALUE=DATE:20231020
DTEND;VALUE=DATE:20231021
SUMMARY:4 TENOŘI ve Zbýšově
DESCRIPTION:
LOCATION:Zbýšov
END:VEVENT
END:VCALENDAR