BEGIN:VCALENDAR
VERSION:2.0
CALSCALE:GREGORIAN
PRODID:-//MyApp//Calendar 1.0//EN
BEGIN:VEVENT
METHOD:PUBLISH
UID:34086@regionalniportaly.cz
DTSTAMP:20260422T142804Z
DTSTART;VALUE=DATE:20240428
DTEND;VALUE=DATE:20240429
SUMMARY:Šťastný vyvolený
DESCRIPTION:Manželé Greg a Melanie pozvali svého kamaráda Jeffa na večeři. Jeffova bývalá přítelkyně Charlie\, kterou pět let neviděl\, se má vdávat a za svědka si vybrala Melanii. Shodou okolností se Charlie se svým vyvoleným objeví na společné večeři. Charlie ho miluje\, ačkoliv své přátele předem varuje\, že je "trochu jiný".Jak moc jiný? Nechte se překvapit.
LOCATION:Zbýšov
END:VEVENT
END:VCALENDAR