BEGIN:VCALENDAR
VERSION:2.0
CALSCALE:GREGORIAN
PRODID:-//MyApp//Calendar 1.0//EN
BEGIN:VEVENT
METHOD:PUBLISH
UID:34083@regionalniportaly.cz
DTSTAMP:20260423T122734Z
DTSTART;VALUE=DATE:20240222
DTEND;VALUE=DATE:20240223
SUMMARY:Benátky pod sněhem
DESCRIPTION:Brilantní situační komedie o&nbsp\;pozvání na večeři a&nbsp\;zmatení jazyků.Jedni mají před svatbou\, druzí možná před rozchodem.Společné setkání může ale všechno převrátit.Jedno malé nedorozumění vede až k&nbsp\;absurdním situacím...
LOCATION:Zbýšov
END:VEVENT
END:VCALENDAR