BEGIN:VCALENDAR
VERSION:2.0
CALSCALE:GREGORIAN
PRODID:-//MyApp//Calendar 1.0//EN
BEGIN:VEVENT
METHOD:PUBLISH
UID:34082@regionalniportaly.cz
DTSTAMP:20260422T060949Z
DTSTART;VALUE=DATE:20240209
DTEND;VALUE=DATE:20240210
SUMMARY:SHIRLEY VALENTINE
DESCRIPTION:Komediální monodrama. Shirley\, čtyřicetiletá matka rodiny\, se rozhodne na chvíli opustit mnohaletý stereotyp manželského života a&nbsp\;vydá se s&nbsp\;kamarádkou na dovolenou k&nbsp\;moři. Tam jí začíná nový život\, nové dobrodružství\, ožívají touhy z&nbsp\;mládí\, které už považovala za ztracené...
LOCATION:Zbýšov
END:VEVENT
END:VCALENDAR