BEGIN:VCALENDAR
VERSION:2.0
CALSCALE:GREGORIAN
PRODID:-//MyApp//Calendar 1.0//EN
BEGIN:VEVENT
METHOD:PUBLISH
UID:33906@regionalniportaly.cz
DTSTAMP:20260423T110812Z
DTSTART;VALUE=DATE:20230630
DTEND;VALUE=DATE:20230701
SUMMARY:Indiana Jones a nástroj osudu
DESCRIPTION:
LOCATION:Zbýšov
END:VEVENT
END:VCALENDAR