BEGIN:VCALENDAR
VERSION:2.0
CALSCALE:GREGORIAN
PRODID:-//MyApp//Calendar 1.0//EN
BEGIN:VEVENT
METHOD:PUBLISH
UID:33670@regionalniportaly.cz
DTSTAMP:20260423T093254Z
DTSTART;VALUE=DATE:20230728
DTEND;VALUE=DATE:20230729
SUMMARY:DJEMBE MARATHON 2023
DESCRIPTION:Žánrový festival DJEMBE MARATHON letos slaví jubilejní desáté výročí. Koná se opět v Moravském Krumlově v příjemném areálu Vrabčího hájku.Na jednom z největších tuzemských&nbsp\;festivalů&nbsp\;svého druhu vystoupí:TUBABU •&nbsp\;ESCOLA DE SAMBA BRNO •&nbsp\;KAURI •&nbsp\;MEET YOUR STREET&nbsp\;feat. ASHEEMA &amp\; GYPSYFROMTHEFUTURE •&nbsp\;ONDŘEJ SMEYKAL •&nbsp\;JARDA MUGRAUER •&nbsp\;TUBABU FILA •&nbsp\;NOVÍ KUMPÁNI •&nbsp\;CAMARA • DJ RODNEY • MORIBAYA.Sobotní dopoledne patří workshopům hry na koru\, djembe a africkému tanci.&nbsp\;Těšit se můžete na čajovnu\, kavárnu\, drum circle\, noční jam u ohniště\, ... Nebude chybět etnotržiště s krásnými především rukodělnými věcičkami ...&nbsp\;V provozu bude úschovna nástrojů\, takže DJEMBE A VŠELIKÉ DALŠÍ BUBÍNKY&nbsp\;VEMTE S SEBOU!Festival finančně i věcně podpořili: město Moravský Krumlov\, Jihomoravský kraj\, Kája &amp\; Radim &amp\; Roman\,&nbsp\;Mikroregion Moravskokrumlovsko\, Živé pomezí Krumlovsko–Jevišovicko\, MěKS Moravský Krumlov
LOCATION:Moravský Krumlov
END:VEVENT
END:VCALENDAR