BEGIN:VCALENDAR
VERSION:2.0
CALSCALE:GREGORIAN
PRODID:-//MyApp//Calendar 1.0//EN
BEGIN:VEVENT
METHOD:PUBLISH
UID:33511@regionalniportaly.cz
DTSTAMP:20260423T075009Z
DTSTART;VALUE=DATE:20230609
DTEND;VALUE=DATE:20230916
SUMMARY:Léto ve Zbýšově
DESCRIPTION:Léto ve Zbýšově bude pestré\, krásné prostředí koupaliště nebo areál těžní věže má svoje kouzlo a těšíme se na Vaši návštěvu u nás ve Zbýšově.Vše podrobně najdete na www.mkczbysov.cz  \n 
LOCATION:Zbýšov
END:VEVENT
END:VCALENDAR