BEGIN:VCALENDAR
VERSION:2.0
CALSCALE:GREGORIAN
PRODID:-//MyApp//Calendar 1.0//EN
BEGIN:VEVENT
METHOD:PUBLISH
UID:33433@regionalniportaly.cz
DTSTAMP:20260423T093028Z
DTSTART;VALUE=DATE:20230725
DTEND;VALUE=DATE:20230726
SUMMARY:Večer na středověkém hradě u bezedných pohárů a talířů
DESCRIPTION:Večery na nefalšovaném středověkém hradě s novými přáteli\, u bezedných pohárů a talířů\, s dobrou zábavou\, nevšedními zážitkyProžijete s námi jinde neopakovatelný zábavný večer\, na nefalšovaném středověkém hradě\, 15 minut od Brna. V &nbsp\;ceně vstupenky je bohatá hostina podporovaná bezednými poháry a talíři\, skvělým zábavným programem i prožitkem na tajemně osvětleném hradě. Vše je v ceně vstupného. Nic takového nikde neprožijete.Vstup od 19.30 a program začíná v 19 hodin a končí ve 22 hodin\, vstupenky se prodávají do jednotlivých sálů\, nikoliv na místo. Rádi Vás na našem hradě uvítáme.
LOCATION:Dolní Kounice
END:VEVENT
END:VCALENDAR