BEGIN:VCALENDAR
VERSION:2.0
CALSCALE:GREGORIAN
PRODID:-//MyApp//Calendar 1.0//EN
BEGIN:VEVENT
METHOD:PUBLISH
UID:33387@regionalniportaly.cz
DTSTAMP:20260423T074912Z
DTSTART;VALUE=DATE:20230610
DTEND;VALUE=DATE:20230611
SUMMARY:VRABČÁK - hudební festival
DESCRIPTION:Vrabčák fest je zpět!\n Jsme rádi\, že vás můžeme pozvat na celodenní akci pro všechny věkové kategorie.Odpoledne to začne zábavou pro děti v podání Dj IZZY A ŽONGLERA JONÁŠE Poté budou následovat ty to kapely:\n\nHRAD92 \nATMO MUSIC\nKERN \nŠROUBY A MATICE \nDESMOD \nJAKUB DĚKAN \n\nMužeté se těšit na bohaté občerstvení\, alko i nealko nápoje. \nVstupenky:\n\ndospělí 650 Kč (na místě 750 Kč)\nděti: 12-14 let 290 Kč\nděti do 12 let v doprovodu zdarma.\n\nPředprodej vstupenek:\n\nSmsticket\nInformační centrum Moravský Krumlov (zámek)\nPrůmyslové zboží Šedrla a Dvořáček na náměstí T.G.M Moravský Krumlov.\n
LOCATION:Moravský Krumlov
END:VEVENT
END:VCALENDAR