BEGIN:VCALENDAR
VERSION:2.0
CALSCALE:GREGORIAN
PRODID:-//MyApp//Calendar 1.0//EN
BEGIN:VEVENT
METHOD:PUBLISH
UID:32986@regionalniportaly.cz
DTSTAMP:20260421T185509Z
DTSTART;VALUE=DATE:20230512
DTEND;VALUE=DATE:20230513
SUMMARY:Myška Pattie: Na vlnách dobrodružství
DESCRIPTION:
LOCATION:Zbýšov
END:VEVENT
END:VCALENDAR