BEGIN:VCALENDAR
VERSION:2.0
CALSCALE:GREGORIAN
PRODID:-//MyApp//Calendar 1.0//EN
BEGIN:VEVENT
METHOD:PUBLISH
UID:32985@regionalniportaly.cz
DTSTAMP:20260423T093222Z
DTSTART;VALUE=DATE:20230623
DTEND;VALUE=DATE:20230625
SUMMARY:2. Hříšné folkové léto
DESCRIPTION:Druhý ročník legendárního festivalu folkové muziky v Oslavanech.
LOCATION:Oslavany
END:VEVENT
END:VCALENDAR