BEGIN:VCALENDAR
VERSION:2.0
CALSCALE:GREGORIAN
PRODID:-//MyApp//Calendar 1.0//EN
BEGIN:VEVENT
METHOD:PUBLISH
UID:32859@regionalniportaly.cz
DTSTAMP:20260421T190338Z
DTSTART;VALUE=DATE:20230505
DTEND;VALUE=DATE:20230506
SUMMARY:Život kotěte
DESCRIPTION:
LOCATION:Zbýšov
END:VEVENT
END:VCALENDAR