BEGIN:VCALENDAR
VERSION:2.0
CALSCALE:GREGORIAN
PRODID:-//MyApp//Calendar 1.0//EN
BEGIN:VEVENT
METHOD:PUBLISH
UID:32571@regionalniportaly.cz
DTSTAMP:20260423T074942Z
DTSTART;VALUE=DATE:20231005
DTEND;VALUE=DATE:20231006
SUMMARY:VARIETÉ KRHUT VE ZBÝŠOVĚ
DESCRIPTION:
LOCATION:Zbýšov
END:VEVENT
END:VCALENDAR