BEGIN:VCALENDAR
VERSION:2.0
CALSCALE:GREGORIAN
PRODID:-//MyApp//Calendar 1.0//EN
BEGIN:VEVENT
METHOD:PUBLISH
UID:32497@regionalniportaly.cz
DTSTAMP:20260422T025050Z
DTSTART;VALUE=DATE:20231118
DTEND;VALUE=DATE:20231119
SUMMARY:7 pádů Honzy Dědka ve Zbýšově
DESCRIPTION:
LOCATION:Zbýšov
END:VEVENT
END:VCALENDAR