BEGIN:VCALENDAR
VERSION:2.0
CALSCALE:GREGORIAN
PRODID:-//MyApp//Calendar 1.0//EN
BEGIN:VEVENT
METHOD:PUBLISH
UID:32403@regionalniportaly.cz
DTSTAMP:20260423T093443Z
DTSTART;VALUE=DATE:20230619
DTEND;VALUE=DATE:20230620
SUMMARY:Po jedné stopě
DESCRIPTION:Účinkují:Martin PísaříkIgor BrezovarDélka pořadu: 100 minut bez přestávky&nbsp\;Herec Martin Písařík a cestovatel Igor Brezovar v rámci projektu PO JEDNÉ STOPĚ po třech letech dokončili svoji cestu po Africe. Cesta po západním pobřeží Afriky z Maroka do Kapského města jim dohromady zabrala 7 měsíců\, ujeli 25.000 kilometrů a projeli 21 států. O své zážitky nejen z poslední etapy\, která se do vysílání České televize chystá od ledna 2023 se s vámi přijedou osobně podělit. Kde se cítili v ohrožení? Jak to zvládli stroje i jejich emoce? Kde jsou nejhezčí ženy? Jak bojovat s malárií? Zkrátka o všem\, co vás zajímá\, co se nevešlo\, nebo "nemohlo" vejít do televize si s vámi rádi popovídají v neformální atmosféře\, humorem a s otevřeností sobě vlastní. Čas bude i na dotazy diváků a autogramiádu.
LOCATION:Moravský Krumlov
END:VEVENT
END:VCALENDAR