BEGIN:VCALENDAR
VERSION:2.0
CALSCALE:GREGORIAN
PRODID:-//MyApp//Calendar 1.0//EN
BEGIN:VEVENT
METHOD:PUBLISH
UID:32234@regionalniportaly.cz
DTSTAMP:20260422T043352Z
DTSTART;VALUE=DATE:20231210
DTEND;VALUE=DATE:20231211
SUMMARY:Chlap na zabití
DESCRIPTION:
LOCATION:Zbýšov
END:VEVENT
END:VCALENDAR