BEGIN:VCALENDAR
VERSION:2.0
CALSCALE:GREGORIAN
PRODID:-//MyApp//Calendar 1.0//EN
BEGIN:VEVENT
METHOD:PUBLISH
UID:32232@regionalniportaly.cz
DTSTAMP:20260421T170641Z
DTSTART;VALUE=DATE:20230519
DTEND;VALUE=DATE:20230520
SUMMARY:Krumlovský Rock N' Roll Majáles 2023
DESCRIPTION:2. ročník Krumlovského Majálesu bude naladěn do rockového tónu. Na pódiu se objeví autorské kapely STRIDEO\, ŇUŇU a TH!S. O známé světové hity se postarají Guns `N Roses tribute Czech Republic a KISS Revival Czech Republic!
LOCATION:Moravský Krumlov
END:VEVENT
END:VCALENDAR