BEGIN:VCALENDAR
VERSION:2.0
CALSCALE:GREGORIAN
PRODID:-//MyApp//Calendar 1.0//EN
BEGIN:VEVENT
METHOD:PUBLISH
UID:32205@regionalniportaly.cz
DTSTAMP:20260422T011843Z
DTSTART;VALUE=DATE:20231102
DTEND;VALUE=DATE:20231103
SUMMARY:Talkshow o DAKARU 2023
DESCRIPTION:
LOCATION:Zbýšov
END:VEVENT
END:VCALENDAR