BEGIN:VCALENDAR
VERSION:2.0
CALSCALE:GREGORIAN
PRODID:-//MyApp//Calendar 1.0//EN
BEGIN:VEVENT
METHOD:PUBLISH
UID:32204@regionalniportaly.cz
DTSTAMP:20260422T025011Z
DTSTART;VALUE=DATE:20231118
DTEND;VALUE=DATE:20231119
SUMMARY:Štístko a Poupěnka "Velká oslava"
DESCRIPTION:Známou dvojici Štístko a Poupěnka u nás ve Zbýšově dobře známe\,&nbsp\;v loňském roce slavili 5 let výročí svého vzniku a my je letos budeme hostit popáté. Vstupenky už nyní na tuhle velkou událost\, kterou zkusíme spojit ještě s další aktivitou a zábavou jsou již v prodeji na smsticket.cz nebo v kanc. MKC. Děti do 2 let mají bez nároku na sedadlo vstup zdarm
LOCATION:Zbýšov
END:VEVENT
END:VCALENDAR