BEGIN:VCALENDAR
VERSION:2.0
CALSCALE:GREGORIAN
PRODID:-//MyApp//Calendar 1.0//EN
BEGIN:VEVENT
METHOD:PUBLISH
UID:32203@regionalniportaly.cz
DTSTAMP:20260422T025040Z
DTSTART;VALUE=DATE:20231125
DTEND;VALUE=DATE:20231126
SUMMARY:Dva nahatý chlapi
DESCRIPTION:
LOCATION:Zbýšov
END:VEVENT
END:VCALENDAR