BEGIN:VCALENDAR
VERSION:2.0
CALSCALE:GREGORIAN
PRODID:-//MyApp//Calendar 1.0//EN
BEGIN:VEVENT
METHOD:PUBLISH
UID:32202@regionalniportaly.cz
DTSTAMP:20260421T232621Z
DTSTART;VALUE=DATE:20231019
DTEND;VALUE=DATE:20231020
SUMMARY:Kaktusový květ
DESCRIPTION:
LOCATION:Zbýšov
END:VEVENT
END:VCALENDAR