BEGIN:VCALENDAR
VERSION:2.0
CALSCALE:GREGORIAN
PRODID:-//MyApp//Calendar 1.0//EN
BEGIN:VEVENT
METHOD:PUBLISH
UID:32188@regionalniportaly.cz
DTSTAMP:20260423T074900Z
DTSTART;VALUE=DATE:20230610
DTEND;VALUE=DATE:20230611
SUMMARY:Vrabčák Fest
DESCRIPTION:Vrabčák fest je zpět&nbsp\;Jsme rádi ze vás můžeme pozvat na celodenní akci pro všechny věkové kategorie.Odpoledne to začne zábavou pro děti v podání Dj IZZY A ŽONGLERA JONÁŠE&nbsp\;Poté budou následovat ty to kapely:HRAD92&nbsp\;ATMO MUSICKERN&nbsp\;ŠROUBY A MATICE&nbsp\;DESMOD&nbsp\;JAKUB DĚKAN&nbsp\;Mužeté se těšit na bohaté občerstvení\, alko i nealko nápoje.&nbsp\;
LOCATION:Moravský Krumlov
END:VEVENT
END:VCALENDAR